BEGIN:VCALENDAR
PRODID:-//Bizzabo//EN
VERSION:2.0
BEGIN:VEVENT
UID:event-769392
ORGANIZER;CN="Africa Summit":mailto:ftlive@ft.com
DTSTAMP:20260425T145332Z
DTSTART:20261021T080000Z
DTEND:20261022T163000Z
SUMMARY:Africa Summit
DESCRIPTION:Event description should give weight to the in-person elemen
 ts of the event, but don't forget to mention the benefits of
  joining digitally.\n\nhttps://africa.live.ft.com/agenda
LOCATION:London, UK
END:VEVENT
END:VCALENDAR